Workbook

Sheet Sheet2
A3: 编号 | B3: 0
A5: 求和项:次数 | D5: 姓名
A6: 年份 | B6: 备注 | C6: 培训项目 | D6: 邓智艺 | E6: 杨可盈 | F6: 詹童童 | G6: 冯思涵 | H6: 师子恒 | I6: 黄腾 | J6: 黄欣莹 | K6: 刘欣乐 | L6: 吴浩然 | M6: 廖佳怡 | N6: 李宜蔚 | O6: 谢思齐 | P6: 朱奕霖 | Q6: 李洛麒 | R6: 赵浚 | S6: 王洁茹 | T6: 谢君强 | U6: 苏月童 | V6: 周彦欣 | W6: 罗佳一 | X6: 李长乐 | Y6: 毛浚琛 | Z6: 李爱鹏 | AA6: 李婧蕾 | AB6: 廖海媚 | AC6: 周俊豪 | AD6: 熊昊然 | AE6: 刘昱铄 | AF6: 丘洋菲 | AG6: 吴昊熙 | AH6: 伍宇竣 | AI6: 郑凯臣 | AJ6: 张松海 | AK6: 李雨阳 | AL6: 马婧雯 | AM6: 谢丽晨 | AN6: 魏思菡 | AO6: 陈香润 | AP6: 胡瑞恩 | AQ6: 孙晨哲 | AR6: 张丽阳 | AS6: 章梓沁 | AT6: 蒋宇乐 | AU6: 李明静 | AV6: 单佳颖 | AW6: 林曦龙 | AX6: 任荣成 | AY6: 杨皓天 | AZ6: 胡浩 | BA6: 郑家乐 | BB6: 钟嘉峻 | BC6: 总计
A7: 2018 | B7: 训练营 | C7: 2018.07.16一期预备队员夏训（金龟小镇） | E7: 1 | M7: 1 | N7: 1 | O7: 1 | BC7: 4
C8: 2018.07.17一期预备队员夏训（金龟小镇） | E8: 1 | M8: 1 | N8: 1 | O8: 1 | BC8: 4
C9: 2018.07.18一期预备队员夏训（金龟小镇） | E9: 1 | M9: 1 | N9: 1 | O9: 1 | BC9: 4
C10: 2018.07.19一期预备队员夏训（金龟小镇） | E10: 1 | M10: 1 | N10: 1 | O10: 1 | BC10: 4
C11: 2018.07.20一期预备队员夏训（金龟小镇） | E11: 1 | M11: 1 | N11: 1 | O11: 1 | BC11: 4
C12: 2018.08.06二期预备队员夏训（金龟小镇） | D12: 1 | P12: 1 | Q12: 1 | R12: 1 | S12: 1 | X12: 1 | BC12: 6
C13: 2018.08.07二期预备队员夏训（金龟小镇） | D13: 1 | P13: 1 | Q13: 1 | R13: 1 | S13: 1 | X13: 1 | BC13: 6
C14: 2018.08.08二期预备队员夏训（金龟小镇） | D14: 1 | P14: 1 | Q14: 1 | R14: 1 | S14: 1 | X14: 1 | BC14: 6
C15: 2018.08.09二期预备队员夏训（金龟小镇） | D15: 1 | P15: 1 | Q15: 1 | R15: 1 | S15: 1 | X15: 1 | BC15: 6
C16: 2018.08.10二期预备队员夏训（金龟小镇） | D16: 1 | P16: 1 | Q16: 1 | R16: 1 | S16: 1 | X16: 1 | BC16: 6
B17: 社会服务 | C17: 2018.07.29梅林U站服务（一期） | T17: 1 | V17: 1 | BC17: 2
C18: 2018.08.05梅林U站服务（二期） | U18: 1 | BC18: 1
C19: 2018.08.19梅林U站服务（三期） | Q19: 1 | R19: 0 | U19: 1 | BC19: 2
C20: 2018.08.22梅林U站服务（四期） | D20: 1 | Q20: 1 | U20: 1 | BC20: 3
C21: 2018.08.26梅林U站服务（五期） | D21: 1 | E21: 1 | M21: 1 | N21: 1 | P21: 1 | Q21: 0 | V21: 1 | W21: 1 | BC21: 7
C22: 2018.10.14梅林U站服务（六期） | D22: 0 | E22: 0 | M22: 1 | N22: 1 | O22: 1 | P22: 1 | R22: 1 | V22: 0 | BC22: 5
A23: 2019 | B23: 训练营 | C23: 2019.01.20少辅队预备队员冬训营 （韶关始兴营地） | F23: 1 | G23: 1 | H23: 1 | I23: 1 | J23: 1 | K23: 1 | L23: 1 | Y23: 1 | Z23: 1 | AA23: 1 | AB23: 1 | AC23: 1 | AD23: 1 | AE23: 1 | AF23: 1 | AG23: 1 | AH23: 1 | AI23: 1 | AJ23: 1 | BC23: 19
C24: 2019.01.21少辅队预备队员冬训营 （韶关始兴营地） | F24: 1 | G24: 1 | H24: 1 | I24: 1 | J24: 1 | K24: 1 | L24: 1 | Y24: 1 | Z24: 1 | AA24: 1 | AB24: 1 | AC24: 1 | AD24: 1 | AE24: 1 | AF24: 1 | AG24: 1 | AH24: 1 | AI24: 1 | AJ24: 1 | BC24: 19
C25: 2019.01.22少辅队预备队员冬训营 （韶关始兴营地） | F25: 1 | G25: 1 | H25: 1 | I25: 1 | J25: 1 | K25: 1 | L25: 1 | Y25: 1 | Z25: 1 | AA25: 1 | AB25: 1 | AC25: 1 | AD25: 1 | AE25: 1 | AF25: 1 | AG25: 1 | AH25: 1 | AI25: 1 | AJ25: 1 | BC25: 19
C26: 2019.01.23少辅队预备队员冬训营 （韶关始兴营地） | F26: 1 | G26: 1 | H26: 1 | I26: 1 | J26: 1 | K26: 1 | L26: 1 | Y26: 1 | Z26: 1 | AA26: 1 | AB26: 1 | AC26: 1 | AD26: 1 | AE26: 1 | AF26: 1 | AG26: 1 | AH26: 1 | AI26: 1 | AJ26: 1 | BC26: 19
C27: 2019.01.24少辅队预备队员冬训营 （韶关始兴营地） | F27: 1 | G27: 1 | H27: 1 | I27: 1 | J27: 1 | K27: 1 | L27: 1 | Y27: 1 | Z27: 1 | AA27: 1 | AB27: 1 | AC27: 1 | AD27: 1 | AE27: 1 | AF27: 1 | AG27: 1 | AH27: 1 | AI27: 1 | AJ27: 1 | BC27: 19
C28: 2019.01.25少辅队预备队员冬训营 （韶关始兴营地） | F28: 1 | G28: 1 | H28: 1 | I28: 1 | J28: 1 | K28: 1 | L28: 1 | Y28: 1 | Z28: 1 | AA28: 1 | AB28: 1 | AC28: 1 | AD28: 1 | AE28: 1 | AF28: 1 | AG28: 1 | AH28: 1 | AI28: 1 | AJ28: 1 | BC28: 19
C29: 2019.01.26少辅队预备队员冬训营 （韶关始兴营地） | F29: 1 | G29: 1 | H29: 1 | I29: 1 | J29: 1 | K29: 1 | L29: 1 | Y29: 1 | Z29: 1 | AA29: 1 | AB29: 1 | AC29: 1 | AD29: 1 | AE29: 1 | AF29: 1 | AG29: 1 | AH29: 1 | AI29: 1 | AJ29: 1 | BC29: 19
B30: 社会服务 | C30: 2019.02.23 梅林U站社会服务活动第一期 | D30: 1 | E30: 1 | F30: 1 | H30: 1 | I30: 1 | J30: 1 | K30: 1 | L30: 1 | AD30: 1 | AK30: 1 | AN30: 1 | AO30: 1 | AQ30: 1 | AR30: 1 | AS30: 1 | AT30: 1 | AX30: 1 | BC30: 17
C31: 2019.02.24 梅林U站社会服务活动第二期 | G31: 1 | M31: 1 | N31: 1 | O31: 1 | P31: 1 | Y31: 1 | Z31: 1 | AA31: 0 | AC31: 1 | AL31: 1 | AP31: 1 | AV31: 1 | AW31: 1 | AZ31: 0 | BA31: 0 | BB31: 0 | BC31: 12
C32: 2019.03.02 梅林U站社会服务活动第三期 | F32: 1 | J32: 1 | AB32: 1 | AQ32: 1 | AR32: 1 | AY32: 0 | BC32: 5
C33: 2019.03.16 梅林U站社会服务活动第五期 | F33: 1 | H33: 1 | J33: 1 | K33: 1 | O33: 1 | AJ33: 0 | AK33: 1 | AL33: 1 | AM33: 1 | BC33: 8
C34: 2019.03.30梅林U站社会服务活动第六期 | E34: 1 | G34: 1 | H34: 1 | I34: 1 | K34: 1 | L34: 1 | AK34: 1 | AL34: 1 | AM34: 1 | AN34: 1 | AO34: 1 | AS34: 1 | BC34: 12
C35: 2019.03.31梅林U站社会服务活动第七期 | G35: 1 | I35: 1 | L35: 1 | Y35: 1 | AA35: 1 | AP35: 1 | AU35: 1 | BC35: 7
A36: 总计 | D36: 8 | E36: 8 | F36: 10 | G36: 10 | H36: 10 | I36: 10 | J36: 10 | K36: 10 | L36: 10 | M36: 8 | N36: 8 | O36: 8 | P36: 8 | Q36: 7 | R36: 6 | S36: 5 | T36: 1 | U36: 3 | V36: 2 | W36: 1 | X36: 5 | Y36: 9 | Z36: 8 | AA36: 8 | AB36: 8 | AC36: 8 | AD36: 8 | AE36: 7 | AF36: 7 | AG36: 7 | AH36: 7 | AI36: 7 | AJ36: 7 | AK36: 3 | AL36: 3 | AM36: 2 | AN36: 2 | AO36: 2 | AP36: 2 | AQ36: 2 | AR36: 2 | AS36: 2 | AT36: 1 | AU36: 1 | AV36: 1 | AW36: 1 | AX36: 1 | AY36: 0 | AZ36: 0 | BA36: 0 | BB36: 0 | BC36: 264

Sheet 考勤明细
A1: 2018-2019年少年辅助队预备队员训练营及社会服务考勤总表（2019.4.8）
A2: 年份 | B2: 备注 | C2: 培训项目 | D2: 邓智艺 | E2: 杨可盈 | F2: 廖佳怡 | G2: 李宜蔚 | H2: 谢思齐 | I2: 朱奕霖 | J2: 詹童童 | K2: 冯思涵 | L2: 师子恒 | M2: 黄腾 | N2: 黄欣莹 | O2: 刘欣乐 | P2: 吴浩然 | Q2: 李洛麒 | R2: 赵浚 | S2: 王洁茹 | T2: 谢君强 | U2: 苏月童 | V2: 周彦欣 | W2: 罗佳一 | X2: 李长乐 | Y2: 毛浚琛 | Z2: 李爱鹏 | AA2: 李婧蕾 | AB2: 廖海媚 | AC2: 周俊豪 | AD2: 熊昊然 | AE2: 刘昱铄 | AF2: 丘洋菲 | AG2: 吴昊熙 | AH2: 伍宇竣 | AI2: 郑凯臣 | AJ2: 张松海 | AK2: 李雨阳 | AL2: 马婧雯 | AM2: 谢丽晨 | AN2: 魏思菡 | AO2: 陈香润 | AP2: 胡瑞恩 | AQ2: 孙晨哲 | AR2: 张丽阳 | AS2: 章梓沁 | AT2: 蒋宇乐 | AU2: 李明静 | AV2: 单佳颖 | AW2: 林曦龙 | AX2: 任荣成 | AY2: 杨皓天 | AZ2: 胡浩 | BA2: 郑家乐 | BB2: 钟嘉峻 | BC2: 总计
A3: 2018 | B3: 训练营 | C3: 2018.07.16一期预备队员夏训（金龟小镇） | E3: 1 | F3: 1 | G3: 1 | H3: 1 | BC3: 4
C4: 2018.07.17一期预备队员夏训（金龟小镇） | E4: 1 | F4: 1 | G4: 1 | H4: 1 | BC4: 4
C5: 2018.07.18一期预备队员夏训（金龟小镇） | E5: 1 | F5: 1 | G5: 1 | H5: 1 | BC5: 4
C6: 2018.07.19一期预备队员夏训（金龟小镇） | E6: 1 | F6: 1 | G6: 1 | H6: 1 | BC6: 4
C7: 2018.07.20一期预备队员夏训（金龟小镇） | E7: 1 | F7: 1 | G7: 1 | H7: 1 | BC7: 4
C8: 2018.08.06二期预备队员夏训（金龟小镇） | D8: 1 | I8: 1 | Q8: 1 | R8: 1 | S8: 1 | X8: 1 | BC8: 6
C9: 2018.08.07二期预备队员夏训（金龟小镇） | D9: 1 | I9: 1 | Q9: 1 | R9: 1 | S9: 1 | X9: 1 | BC9: 6
C10: 2018.08.08二期预备队员夏训（金龟小镇） | D10: 1 | I10: 1 | Q10: 1 | R10: 1 | S10: 1 | X10: 1 | BC10: 6
C11: 2018.08.09二期预备队员夏训（金龟小镇） | D11: 1 | I11: 1 | Q11: 1 | R11: 1 | S11: 1 | X11: 1 | BC11: 6
C12: 2018.08.10二期预备队员夏训（金龟小镇） | D12: 1 | I12: 1 | Q12: 1 | R12: 1 | S12: 1 | X12: 1 | BC12: 6
B13: 社会服务 | C13: 2018.07.29梅林U站服务（一期） | T13: 1 | V13: 1 | BC13: 2
C14: 2018.08.05梅林U站服务（二期） | U14: 1 | BC14: 1
C15: 2018.08.19梅林U站服务（三期） | Q15: 1 | R15: 0 | U15: 1 | BC15: 2
C16: 2018.08.22梅林U站服务（四期） | D16: 1 | Q16: 1 | U16: 1 | BC16: 3
C17: 2018.08.26梅林U站服务（五期） | D17: 1 | E17: 1 | F17: 1 | G17: 1 | I17: 1 | Q17: 0 | V17: 1 | W17: 1 | BC17: 7
C18: 2018.10.14梅林U站服务（六期） | D18: 0 | E18: 0 | F18: 1 | G18: 1 | H18: 1 | I18: 1 | R18: 1 | V18: 0 | BC18: 5
A19: 2019 | B19: 训练营 | C19: 2019.01.20少辅队预备队员冬训营 （韶关始兴营地） | J19: 1 | K19: 1 | L19: 1 | M19: 1 | N19: 1 | O19: 1 | P19: 1 | Y19: 1 | Z19: 1 | AA19: 1 | AB19: 1 | AC19: 1 | AD19: 1 | AE19: 1 | AF19: 1 | AG19: 1 | AH19: 1 | AI19: 1 | AJ19: 1 | BC19: 19
C20: 2019.01.21少辅队预备队员冬训营 （韶关始兴营地） | J20: 1 | K20: 1 | L20: 1 | M20: 1 | N20: 1 | O20: 1 | P20: 1 | Y20: 1 | Z20: 1 | AA20: 1 | AB20: 1 | AC20: 1 | AD20: 1 | AE20: 1 | AF20: 1 | AG20: 1 | AH20: 1 | AI20: 1 | AJ20: 1 | BC20: 19
C21: 2019.01.22少辅队预备队员冬训营 （韶关始兴营地） | J21: 1 | K21: 1 | L21: 1 | M21: 1 | N21: 1 | O21: 1 | P21: 1 | Y21: 1 | Z21: 1 | AA21: 1 | AB21: 1 | AC21: 1 | AD21: 1 | AE21: 1 | AF21: 1 | AG21: 1 | AH21: 1 | AI21: 1 | AJ21: 1 | BC21: 19
C22: 2019.01.23少辅队预备队员冬训营 （韶关始兴营地） | J22: 1 | K22: 1 | L22: 1 | M22: 1 | N22: 1 | O22: 1 | P22: 1 | Y22: 1 | Z22: 1 | AA22: 1 | AB22: 1 | AC22: 1 | AD22: 1 | AE22: 1 | AF22: 1 | AG22: 1 | AH22: 1 | AI22: 1 | AJ22: 1 | BC22: 19
C23: 2019.01.24少辅队预备队员冬训营 （韶关始兴营地） | J23: 1 | K23: 1 | L23: 1 | M23: 1 | N23: 1 | O23: 1 | P23: 1 | Y23: 1 | Z23: 1 | AA23: 1 | AB23: 1 | AC23: 1 | AD23: 1 | AE23: 1 | AF23: 1 | AG23: 1 | AH23: 1 | AI23: 1 | AJ23: 1 | BC23: 19
C24: 2019.01.25少辅队预备队员冬训营 （韶关始兴营地） | J24: 1 | K24: 1 | L24: 1 | M24: 1 | N24: 1 | O24: 1 | P24: 1 | Y24: 1 | Z24: 1 | AA24: 1 | AB24: 1 | AC24: 1 | AD24: 1 | AE24: 1 | AF24: 1 | AG24: 1 | AH24: 1 | AI24: 1 | AJ24: 1 | BC24: 19
C25: 2019.01.26少辅队预备队员冬训营 （韶关始兴营地） | J25: 1 | K25: 1 | L25: 1 | M25: 1 | N25: 1 | O25: 1 | P25: 1 | Y25: 1 | Z25: 1 | AA25: 1 | AB25: 1 | AC25: 1 | AD25: 1 | AE25: 1 | AF25: 1 | AG25: 1 | AH25: 1 | AI25: 1 | AJ25: 1 | BC25: 19
B26: 社会服务 | C26: 2019.02.23 梅林U站社会服务活动第一期 | D26: 1 | E26: 1 | J26: 1 | L26: 1 | M26: 1 | N26: 1 | O26: 1 | P26: 1 | AD26: 1 | AK26: 1 | AN26: 1 | AO26: 1 | AQ26: 1 | AR26: 1 | AS26: 1 | AT26: 1 | AX26: 1 | BC26: 17
C27: 2019.02.24 梅林U站社会服务活动第二期 | F27: 1 | G27: 1 | H27: 1 | I27: 1 | K27: 1 | Y27: 1 | Z27: 1 | AA27: 0 | AC27: 1 | AL27: 1 | AP27: 1 | AV27: 1 | AW27: 1 | AZ27: 0 | BA27: 0 | BB27: 0 | BC27: 12
C28: 2019.03.02 梅林U站社会服务活动第三期 | J28: 1 | N28: 1 | AB28: 1 | AQ28: 1 | AR28: 1 | AY28: 0 | BC28: 5
C29: 2019.03.16 梅林U站社会服务活动第五期 | H29: 1 | J29: 1 | L29: 1 | N29: 1 | O29: 1 | AJ29: 0 | AK29: 1 | AL29: 1 | AM29: 1 | BC29: 8
C30: 2019.03.30梅林U站社会服务活动第六期 | E30: 1 | K30: 1 | L30: 1 | M30: 1 | O30: 1 | P30: 1 | AK30: 1 | AL30: 1 | AM30: 1 | AN30: 1 | AO30: 1 | AS30: 1 | BC30: 12
C31: 2019.03.31梅林U站社会服务活动第七期 | K31: 1 | M31: 1 | P31: 1 | Y31: 1 | AA31: 1 | AP31: 1 | AU31: 1 | BC31: 7
A32: 总计 | D32: 8 | E32: 8 | F32: 8 | G32: 8 | H32: 8 | I32: 8 | J32: 10 | K32: 10 | L32: 10 | M32: 10 | N32: 10 | O32: 10 | P32: 10 | Q32: 7 | R32: 6 | S32: 5 | T32: 1 | U32: 3 | V32: 2 | W32: 1 | X32: 5 | Y32: 9 | Z32: 8 | AA32: 8 | AB32: 8 | AC32: 8 | AD32: 8 | AE32: 7 | AF32: 7 | AG32: 7 | AH32: 7 | AI32: 7 | AJ32: 7 | AK32: 3 | AL32: 3 | AM32: 2 | AN32: 2 | AO32: 2 | AP32: 2 | AQ32: 2 | AR32: 2 | AS32: 2 | AT32: 1 | AU32: 1 | AV32: 1 | AW32: 1 | AX32: 1 | AY32: 0 | AZ32: 0 | BA32: 0 | BB32: 0 | BC32: 264

Sheet 数据源
A1: 年份 | B1: 活动时间 | C1: 培训项目 | D1: 备注 | E1: 授课内容 | F1: 服务时长 | G1: 姓名 | H1: 次数 | I1: 备注2 | J1: 编号 | K1: 导师评语
A2: 2018 | B2: 2018.07.16 | C2: 2018.07.16一期预备队员夏训（金龟小镇） | D2: 训练营 | G2: 于汶伯 | H2: 1 | J2: =IF(ISNA(VLOOKUP(G2,花名册C:(D),2,FALSE)),"",VLOOKUP(G2,[1]花名册!C:D,2,FALSE)) -> S18019
A3: 2018 | B3: 2018.07.16 | C3: 2018.07.16一期预备队员夏训（金龟小镇） | D3: 训练营 | G3: 郑采云 | H3: 1 | J3: =IF(ISNA(VLOOKUP(G3,花名册C:(D),2,FALSE)),"",VLOOKUP(G3,[1]花名册!C:D,2,FALSE)) -> S18022
A4: 2018 | B4: 2018.07.16 | C4: 2018.07.16一期预备队员夏训（金龟小镇） | D4: 训练营 | G4: 郑青杨 | H4: 1 | J4: =IF(ISNA(VLOOKUP(G4,花名册C:(D),2,FALSE)),"",VLOOKUP(G4,[1]花名册!C:D,2,FALSE)) -> S18023
A5: 2018 | B5: 2018.07.16 | C5: 2018.07.16一期预备队员夏训（金龟小镇） | D5: 训练营 | G5: 郑之宸 | H5: 1 | J5: =IF(ISNA(VLOOKUP(G5,花名册C:(D),2,FALSE)),"",VLOOKUP(G5,[1]花名册!C:D,2,FALSE)) -> S18024
A6: 2018 | B6: 2018.07.16 | C6: 2018.07.16一期预备队员夏训（金龟小镇） | D6: 训练营 | G6: 陈明星 | H6: 1 | J6: =IF(ISNA(VLOOKUP(G6,花名册C:(D),2,FALSE)),"",VLOOKUP(G6,[1]花名册!C:D,2,FALSE)) -> S18001
A7: 2018 | B7: 2018.07.16 | C7: 2018.07.16一期预备队员夏训（金龟小镇） | D7: 训练营 | G7: 杜明博 | H7: 1 | J7: =IF(ISNA(VLOOKUP(G7,花名册C:(D),2,FALSE)),"",VLOOKUP(G7,[1]花名册!C:D,2,FALSE)) -> S18002
A8: 2018 | B8: 2018.07.16 | C8: 2018.07.16一期预备队员夏训（金龟小镇） | D8: 训练营 | G8: 杜铭宇 | H8: 1 | J8: =IF(ISNA(VLOOKUP(G8,花名册C:(D),2,FALSE)),"",VLOOKUP(G8,[1]花名册!C:D,2,FALSE)) -> S18003
A9: 2018 | B9: 2018.07.16 | C9: 2018.07.16一期预备队员夏训（金龟小镇） | D9: 训练营 | G9: 刘沛辰 | H9: 1 | J9: =IF(ISNA(VLOOKUP(G9,花名册C:(D),2,FALSE)),"",VLOOKUP(G9,[1]花名册!C:D,2,FALSE)) -> S18009
A10: 2018 | B10: 2018.07.16 | C10: 2018.07.16一期预备队员夏训（金龟小镇） | D10: 训练营 | G10: 吕嘉盛 | H10: 1 | J10: =IF(ISNA(VLOOKUP(G10,花名册C:(D),2,FALSE)),"",VLOOKUP(G10,[1]花名册!C:D,2,FALSE)) -> S18011
A11: 2018 | B11: 2018.07.16 | C11: 2018.07.16一期预备队员夏训（金龟小镇） | D11: 训练营 | G11: 吕如川 | H11: 1 | J11: =IF(ISNA(VLOOKUP(G11,花名册C:(D),2,FALSE)),"",VLOOKUP(G11,[1]花名册!C:D,2,FALSE)) -> S18012
A12: 2018 | B12: 2018.07.16 | C12: 2018.07.16一期预备队员夏训（金龟小镇） | D12: 训练营 | G12: 粟浚洋 | H12: 1 | J12: =IF(ISNA(VLOOKUP(G12,花名册C:(D),2,FALSE)),"",VLOOKUP(G12,[1]花名册!C:D,2,FALSE)) -> S18015
A13: 2018 | B13: 2018.07.16 | C13: 2018.07.16一期预备队员夏训（金龟小镇） | D13: 训练营 | G13: 冯思皓 | H13: 1 | J13: =IF(ISNA(VLOOKUP(G13,花名册C:(D),2,FALSE)),"",VLOOKUP(G13,[1]花名册!C:D,2,FALSE)) -> S18005
... A213: 2018 | B213: 2018.08.19 | C213: 2018.08.19梅林U站服务（三期） | D213: 社会服务 | G213: 吴逸臣 | H213: 1 | J213: =IF(ISNA(VLOOKUP(G213,花名册C:(D),2,FALSE)),"",VLOOKUP(G213,[1]花名册!C:D,2,FALSE)) -> S18017
A214: 2018 | B214: 2018.08.19 | C214: 2018.08.19梅林U站服务（三期） | D214: 社会服务 | G214: 赵霏 | H214: 0 | I214: 迟到不计考勤 | J214: =IF(ISNA(VLOOKUP(G214,花名册C:(D),2,FALSE)),"",VLOOKUP(G214,[1]花名册!C:D,2,FALSE)) -> S18021
A215: 2018 | B215: 2018.08.19 | C215: 2018.08.19梅林U站服务（三期） | D215: 社会服务 | G215: 赵浚 | H215: 0 | I215: 迟到不计考勤 | J215: =IF(ISNA(VLOOKUP(G215,花名册C:(D),2,FALSE)),"",VLOOKUP(G215,[1]花名册!C:D,2,FALSE)) -> 0
A216: 2018 | B216: 2018.08.19 | C216: 2018.08.19梅林U站服务（三期） | D216: 社会服务 | G216: 温馨 | H216: 1 | J216: =IF(ISNA(VLOOKUP(G216,花名册C:(D),2,FALSE)),"",VLOOKUP(G216,[1]花名册!C:D,2,FALSE)) -> S18016
A217: 2018 | B217: 2018.08.19 | C217: 2018.08.19梅林U站服务（三期） | D217: 社会服务 | G217: 李俊霖 | H217: 1 | J217: =IF(ISNA(VLOOKUP(G217,花名册C:(D),2,FALSE)),"",VLOOKUP(G217,[1]花名册!C:D,2,FALSE)) -> S18008
A218: 2018 | B218: 2018.08.19 | C218: 2018.08.19梅林U站服务（三期） | D218: 社会服务 | G218: 吕如川 | H218: 1 | J218: =IF(ISNA(VLOOKUP(G218,花名册C:(D),2,FALSE)),"",VLOOKUP(G218,[1]花名册!C:D,2,FALSE)) -> S18012
A219: 2018 | B219: 2018.08.19 | C219: 2018.08.19梅林U站服务（三期） | D219: 社会服务 | G219: 郑采云 | H219: 1 | J219: =IF(ISNA(VLOOKUP(G219,花名册C:(D),2,FALSE)),"",VLOOKUP(G219,[1]花名册!C:D,2,FALSE)) -> S18022
A220: 2018 | B220: 2018.08.19 | C220: 2018.08.19梅林U站服务（三期） | D220: 社会服务 | G220: 姜彦孜 | H220: 1 | J220: =IF(ISNA(VLOOKUP(G220,花名册C:(D),2,FALSE)),"",VLOOKUP(G220,[1]花名册!C:D,2,FALSE)) -> S18007
A221: 2018 | B221: 2018.08.19 | C221: 2018.08.19梅林U站服务（三期） | D221: 社会服务 | G221: 郑之宸 | H221: 1 | J221: =IF(ISNA(VLOOKUP(G221,花名册C:(D),2,FALSE)),"",VLOOKUP(G221,[1]花名册!C:D,2,FALSE)) -> S18024
A222: 2018 | B222: 2018.08.19 | C222: 2018.08.19梅林U站服务（三期） | D222: 社会服务 | G222: 冯昶玮 | H222: 1 | J222: =IF(ISNA(VLOOKUP(G222,花名册C:(D),2,FALSE)),"",VLOOKUP(G222,[1]花名册!C:D,2,FALSE)) -> S18004
A223: 2018 | B223: 2018.08.19 | C223: 2018.08.19梅林U站服务（三期） | D223: 社会服务 | G223: 粟浚洋 | H223: 1 | J223: =IF(ISNA(VLOOKUP(G223,花名册C:(D),2,FALSE)),"",VLOOKUP(G223,[1]花名册!C:D,2,FALSE)) -> S18015
A224: 2018 | B224: 2018.08.19 | C224: 2018.08.19梅林U站服务（三期） | D224: 社会服务 | G224: 吕嘉盛 | H224: 1 | J224: =IF(ISNA(VLOOKUP(G224,花名册C:(D),2,FALSE)),"",VLOOKUP(G224,[1]花名册!C:D,2,FALSE)) -> S18011
A225: 2018 | B225: 2018.08.19 | C225: 2018.08.19梅林U站服务（三期） | D225: 社会服务 | G225: 张浚铭 | H225: 1 | J225: =IF(ISNA(VLOOKUP(G225,花名册C:(D),2,FALSE)),"",VLOOKUP(G225,[1]花名册!C:D,2,FALSE)) -> S18020
A226: 2018 | B226: 2018.08.19 | C226: 2018.08.19梅林U站服务（三期） | D226: 社会服务 | G226: 李洛麒 | H226: 1 | J226: =IF(ISNA(VLOOKUP(G226,花名册C:(D),2,FALSE)),"",VLOOKUP(G226,[1]花名册!C:D,2,FALSE)) -> 0
A227: 2018 | B227: 2018.08.19 | C227: 2018.08.19梅林U站服务（三期） | D227: 社会服务 | G227: 杜明博 | H227: 1 | J227: =IF(ISNA(VLOOKUP(G227,花名册C:(D),2,FALSE)),"",VLOOKUP(G227,[1]花名册!C:D,2,FALSE)) -> S18002
... A273: 2018 | B273: 2018.08.26 | C273: 2018.08.26梅林U站服务（五期） | D273: 社会服务 | G273: 李俊霖 | H273: 1 | J273: =IF(ISNA(VLOOKUP(G273,花名册C:(D),2,FALSE)),"",VLOOKUP(G273,[1]花名册!C:D,2,FALSE)) -> S18008
A274: 2018 | B274: 2018.08.26 | C274: 2018.08.26梅林U站服务（五期） | D274: 社会服务 | G274: 李洛麒 | H274: 0 | I274: 病假，缺勤 | J274: =IF(ISNA(VLOOKUP(G274,花名册C:(D),2,FALSE)),"",VLOOKUP(G274,[1]花名册!C:D,2,FALSE)) -> 0
A275: 2018 | B275: 2018.08.26 | C275: 2018.08.26梅林U站服务（五期） | D275: 社会服务 | G275: 郑青杨 | H275: 0 | I275: 事假，缺勤 | J275: =IF(ISNA(VLOOKUP(G275,花名册C:(D),2,FALSE)),"",VLOOKUP(G275,[1]花名册!C:D,2,FALSE)) -> S18023
A276: 2018 | B276: 2018.09.09 | C276: 2018.09.09少辅队导师公开课（文化创意园） | G276: 杜明博 | H276: 1 | J276: =IF(ISNA(VLOOKUP(G276,花名册C:(D),2,FALSE)),"",VLOOKUP(G276,[1]花名册!C:D,2,FALSE)) -> S18002
A277: 2018 | B277: 2018.09.09 | C277: 2018.09.09少辅队导师公开课（文化创意园） | G277: 叶宇飞 | H277: 1 | J277: =IF(ISNA(VLOOKUP(G277,花名册C:(D),2,FALSE)),"",VLOOKUP(G277,[1]花名册!C:D,2,FALSE)) -> S17015
A278: 2018 | B278: 2018.09.09 | C278: 2018.09.09少辅队导师公开课（文化创意园） | G278: 李佳怡 | H278: 1 | J278: =IF(ISNA(VLOOKUP(G278,花名册C:(D),2,FALSE)),"",VLOOKUP(G278,[1]花名册!C:D,2,FALSE)) -> S17027
A279: 2018 | B279: 2018.09.09 | C279: 2018.09.09少辅队导师公开课（文化创意园） | G279: 彭皓轩 | H279: 1 | J279: =IF(ISNA(VLOOKUP(G279,花名册C:(D),2,FALSE)),"",VLOOKUP(G279,[1]花名册!C:D,2,FALSE)) -> S16016
A280: 2018 | B280: 2018.09.09 | C280: 2018.09.09少辅队导师公开课（文化创意园） | G280: 贺富翔 | H280: 0 | I280: 事假，缺勤 | J280: =IF(ISNA(VLOOKUP(G280,花名册C:(D),2,FALSE)),"",VLOOKUP(G280,[1]花名册!C:D,2,FALSE)) -> S16019
A281: 2018 | B281: 2018.09.09 | C281: 2018.09.09少辅队导师公开课（文化创意园） | G281: 王薇媛 | H281: 1 | J281: =IF(ISNA(VLOOKUP(G281,花名册C:(D),2,FALSE)),"",VLOOKUP(G281,[1]花名册!C:D,2,FALSE)) -> S17028
A282: 2018 | B282: 2018.09.09 | C282: 2018.09.09少辅队导师公开课（文化创意园） | G282: 周珈羽 | H282: 1 | J282: =IF(ISNA(VLOOKUP(G282,花名册C:(D),2,FALSE)),"",VLOOKUP(G282,[1]花名册!C:D,2,FALSE)) -> S16034
A283: 2018 | B283: 2018.09.09 | C283: 2018.09.09少辅队导师公开课（文化创意园） | G283: 吕如川 | H283: 1 | J283: =IF(ISNA(VLOOKUP(G283,花名册C:(D),2,FALSE)),"",VLOOKUP(G283,[1]花名册!C:D,2,FALSE)) -> S18012
A284: 2018 | B284: 2018.09.09 | C284: 2018.09.09少辅队导师公开课（文化创意园） | G284: 韩轩然 | H284: 1 | J284: =IF(ISNA(VLOOKUP(G284,花名册C:(D),2,FALSE)),"",VLOOKUP(G284,[1]花名册!C:D,2,FALSE)) -> S18006
A285: 2018 | B285: 2018.09.09 | C285: 2018.09.09少辅队导师公开课（文化创意园） | G285: 黄盛 | H285: 1 | J285: =IF(ISNA(VLOOKUP(G285,花名册C:(D),2,FALSE)),"",VLOOKUP(G285,[1]花名册!C:D,2,FALSE)) -> S16024
A286: 2018 | B286: 2018.09.09 | C286: 2018.09.09少辅队导师公开课（文化创意园） | G286: 谢思齐 | H286: 1 | J286: =IF(ISNA(VLOOKUP(G286,花名册C:(D),2,FALSE)),"",VLOOKUP(G286,[1]花名册!C:D,2,FALSE)) -> 0
A287: 2018 | B287: 2018.09.09 | C287: 2018.09.09少辅队导师公开课（文化创意园） | G287: 鲜东升 | H287: 1 | J287: =IF(ISNA(VLOOKUP(G287,花名册C:(D),2,FALSE)),"",VLOOKUP(G287,[1]花名册!C:D,2,FALSE)) -> S16033
A288: 2018 | B288: 2018.09.09 | C288: 2018.09.09少辅队导师公开课（文化创意园） | G288: 李宜蔚 | H288: 1 | J288: =IF(ISNA(VLOOKUP(G288,花名册C:(D),2,FALSE)),"",VLOOKUP(G288,[1]花名册!C:D,2,FALSE)) -> 0
A289: 2018 | B289: 2018.09.09 | C289: 2018.09.09少辅队导师公开课（文化创意园） | G289: 于汶伯 | H289: 1 | J289: =IF(ISNA(VLOOKUP(G289,花名册C:(D),2,FALSE)),"",VLOOKUP(G289,[1]花名册!C:D,2,FALSE)) -> S18019
A290: 2018 | B290: 2018.09.09 | C290: 2018.09.09少辅队导师公开课（文化创意园） | G290: 郑采云 | H290: 1 | J290: =IF(ISNA(VLOOKUP(G290,花名册C:(D),2,FALSE)),"",VLOOKUP(G290,[1]花名册!C:D,2,FALSE)) -> S18022
A291: 2018 | B291: 2018.09.09 | C291: 2018.09.09少辅队导师公开课（文化创意园） | G291: 冯思皓 | H291: 1 | J291: =IF(ISNA(VLOOKUP(G291,花名册C:(D),2,FALSE)),"",VLOOKUP(G291,[1]花名册!C:D,2,FALSE)) -> S18005
A292: 2018 | B292: 2018.09.09 | C292: 2018.09.09少辅队导师公开课（文化创意园） | G292: 吴逸臣 | H292: 1 | J292: =IF(ISNA(VLOOKUP(G292,花名册C:(D),2,FALSE)),"",VLOOKUP(G292,[1]花名册!C:D,2,FALSE)) -> S18017
... A310: 2018 | B310: 2018.10.01-10.02 | C310: 2018.10.01-10.02少辅队导师公开课（香港麦径两天一夜徙步） | G310: 粟浚洋 | H310: 1 | J310: =IF(ISNA(VLOOKUP(G310,花名册C:(D),2,FALSE)),"",VLOOKUP(G310,[1]花名册!C:D,2,FALSE)) -> S18015
A311: 2018 | B311: 2018.10.01-10.02 | C311: 2018.10.01-10.02少辅队导师公开课（香港麦径两天一夜徙步） | G311: 苏子轩 | H311: 1 | I311: 缺勤 | J311: =IF(ISNA(VLOOKUP(G311,花名册C:(D),2,FALSE)),"",VLOOKUP(G311,[1]花名册!C:D,2,FALSE)) -> S18014
A312: 2018 | B312: 2018.10.01-10.02 | C312: 2018.10.01-10.02少辅队导师公开课（香港麦径两天一夜徙步） | G312: 郑之宸 | H312: 1 | J312: =IF(ISNA(VLOOKUP(G312,花名册C:(D),2,FALSE)),"",VLOOKUP(G312,[1]花名册!C:D,2,FALSE)) -> S18024
A313: 2018 | B313: 2018.10.01-10.02 | C313: 2018.10.01-10.02少辅队导师公开课（香港麦径两天一夜徙步） | G313: 彭皓轩 | H313: 1 | J313: =IF(ISNA(VLOOKUP(G313,花名册C:(D),2,FALSE)),"",VLOOKUP(G313,[1]花名册!C:D,2,FALSE)) -> S16016
A314: 2018 | B314: 2018.10.01-10.02 | C314: 2018.10.01-10.02少辅队导师公开课（香港麦径两天一夜徙步） | G314: 吕如川 | H314: 1 | J314: =IF(ISNA(VLOOKUP(G314,花名册C:(D),2,FALSE)),"",VLOOKUP(G314,[1]花名册!C:D,2,FALSE)) -> S18012
A315: 2018 | B315: 2018.10.01-10.02 | C315: 2018.10.01-10.02少辅队导师公开课（香港麦径两天一夜徙步） | G315: 韩轩然 | H315: 1 | J315: =IF(ISNA(VLOOKUP(G315,花名册C:(D),2,FALSE)),"",VLOOKUP(G315,[1]花名册!C:D,2,FALSE)) -> S18006
A316: 2018 | B316: 2018.10.01-10.02 | C316: 2018.10.01-10.02少辅队导师公开课（香港麦径两天一夜徙步） | G316: 杨振鹏 | H316: 1 | J316: =IF(ISNA(VLOOKUP(G316,花名册C:(D),2,FALSE)),"",VLOOKUP(G316,[1]花名册!C:D,2,FALSE)) -> S16010
A317: 2018 | B317: 2018.10.01-10.02 | C317: 2018.10.01-10.02少辅队导师公开课（香港麦径两天一夜徙步） | G317: 陈明星 | H317: 1 | J317: =IF(ISNA(VLOOKUP(G317,花名册C:(D),2,FALSE)),"",VLOOKUP(G317,[1]花名册!C:D,2,FALSE)) -> S18001
A318: 2018 | B318: 2018.10.01-10.02 | C318: 2018.10.01-10.02少辅队导师公开课（香港麦径两天一夜徙步） | G318: 冯昶玮 | H318: 1 | J318: =IF(ISNA(VLOOKUP(G318,花名册C:(D),2,FALSE)),"",VLOOKUP(G318,[1]花名册!C:D,2,FALSE)) -> S18004
A319: 2018 | B319: 2018.10.01-10.02 | C319: 2018.10.01-10.02少辅队导师公开课（香港麦径两天一夜徙步） | G319: 吴少邦 | H319: 1 | J319: =IF(ISNA(VLOOKUP(G319,花名册C:(D),2,FALSE)),"",VLOOKUP(G319,[1]花名册!C:D,2,FALSE)) -> S17006
A320: 2018 | B320: 2018.10.01-10.02 | C320: 2018.10.01-10.02少辅队导师公开课（香港麦径两天一夜徙步） | G320: 冯思皓 | H320: 1 | J320: =IF(ISNA(VLOOKUP(G320,花名册C:(D),2,FALSE)),"",VLOOKUP(G320,[1]花名册!C:D,2,FALSE)) -> S18005
A321: 2018 | B321: 2018.10.01-10.02 | C321: 2018.10.01-10.02少辅队导师公开课（香港麦径两天一夜徙步） | G321: 鲜东升 | H321: 1 | J321: =IF(ISNA(VLOOKUP(G321,花名册C:(D),2,FALSE)),"",VLOOKUP(G321,[1]花名册!C:D,2,FALSE)) -> S16033
A322: 2018 | B322: 2018.10.01-10.02 | C322: 2018.10.01-10.02少辅队导师公开课（香港麦径两天一夜徙步） | G322: 朱奕霖 | H322: 1 | J322: =IF(ISNA(VLOOKUP(G322,花名册C:(D),2,FALSE)),"",VLOOKUP(G322,[1]花名册!C:D,2,FALSE)) -> 0
A323: 2018 | B323: 2018.10.01-10.02 | C323: 2018.10.01-10.02少辅队导师公开课（香港麦径两天一夜徙步） | G323: 罗佳一 | H323: 1 | J323: =IF(ISNA(VLOOKUP(G323,花名册C:(D),2,FALSE)),"",VLOOKUP(G323,[1]花名册!C:D,2,FALSE)) -> 0
... A328: 2018 | B328: 2018.10.01-10.02 | C328: 2018.10.01-10.02少辅队导师公开课（香港麦径两天一夜徙步） | G328: 李俊霖 | H328: 1 | J328: =IF(ISNA(VLOOKUP(G328,花名册C:(D),2,FALSE)),"",VLOOKUP(G328,[1]花名册!C:D,2,FALSE)) -> S18008
A329: 2018 | B329: 2018.10.14 | C329: 2018.10.14梅林U站服务（六期） | D329: 社会服务 | F329: 8 | G329: 郑青杨 | H329: 1 | J329: =IF(ISNA(VLOOKUP(G329,花名册C:(D),2,FALSE)),"",VLOOKUP(G329,[1]花名册!C:D,2,FALSE)) -> S18023
A330: 2018 | B330: 2018.10.14 | C330: 2018.10.14梅林U站服务（六期） | D330: 社会服务 | F330: 8 | G330: 马宁蔓 | H330: 1 | J330: =IF(ISNA(VLOOKUP(G330,花名册C:(D),2,FALSE)),"",VLOOKUP(G330,[1]花名册!C:D,2,FALSE)) -> S18013
A331: 2018 | B331: 2018.10.14 | C331: 2018.10.14梅林U站服务（六期） | D331: 社会服务 | F331: 8 | G331: 赵霏 | H331: 1 | J331: =IF(ISNA(VLOOKUP(G331,花名册C:(D),2,FALSE)),"",VLOOKUP(G331,[1]花名册!C:D,2,FALSE)) -> S18021
A332: 2018 | B332: 2018.10.14 | C332: 2018.10.14梅林U站服务（六期） | D332: 社会服务 | F332: 8 | G332: 赵浚 | H332: 1 | J332: =IF(ISNA(VLOOKUP(G332,花名册C:(D),2,FALSE)),"",VLOOKUP(G332,[1]花名册!C:D,2,FALSE)) -> 0
A333: 2018 | B333: 2018.10.14 | C333: 2018.10.14梅林U站服务（六期） | D333: 社会服务 | F333: 8 | G333: 张浚铭 | H333: 1 | J333: =IF(ISNA(VLOOKUP(G333,花名册C:(D),2,FALSE)),"",VLOOKUP(G333,[1]花名册!C:D,2,FALSE)) -> S18020
A334: 2018 | B334: 2018.10.14 | C334: 2018.10.14梅林U站服务（六期） | D334: 社会服务 | F334: 8 | G334: 李宜蔚 | H334: 1 | J334: =IF(ISNA(VLOOKUP(G334,花名册C:(D),2,FALSE)),"",VLOOKUP(G334,[1]花名册!C:D,2,FALSE)) -> 0
A335: 2018 | B335: 2018.10.14 | C335: 2018.10.14梅林U站服务（六期） | D335: 社会服务 | F335: 8 | G335: 廖佳怡 | H335: 1 | J335: =IF(ISNA(VLOOKUP(G335,花名册C:(D),2,FALSE)),"",VLOOKUP(G335,[1]花名册!C:D,2,FALSE)) -> 0
A336: 2018 | B336: 2018.10.14 | C336: 2018.10.14梅林U站服务（六期） | D336: 社会服务 | F336: 8 | G336: 姜彦孜 | H336: 1 | J336: =IF(ISNA(VLOOKUP(G336,花名册C:(D),2,FALSE)),"",VLOOKUP(G336,[1]花名册!C:D,2,FALSE)) -> S18007
A337: 2018 | B337: 2018.10.14 | C337: 2018.10.14梅林U站服务（六期） | D337: 社会服务 | F337: 8 | G337: 吴逸臣 | H337: 1 | J337: =IF(ISNA(VLOOKUP(G337,花名册C:(D),2,FALSE)),"",VLOOKUP(G337,[1]花名册!C:D,2,FALSE)) -> S18017
A338: 2018 | B338: 2018.10.14 | C338: 2018.10.14梅林U站服务（六期） | D338: 社会服务 | F338: 8 | G338: 朱奕霖 | H338: 1 | J338: =IF(ISNA(VLOOKUP(G338,花名册C:(D),2,FALSE)),"",VLOOKUP(G338,[1]花名册!C:D,2,FALSE)) -> 0
A339: 2018 | B339: 2018.10.14 | C339: 2018.10.14梅林U站服务（六期） | D339: 社会服务 | F339: 8 | G339: 谢思齐 | H339: 1 | J339: =IF(ISNA(VLOOKUP(G339,花名册C:(D),2,FALSE)),"",VLOOKUP(G339,[1]花名册!C:D,2,FALSE)) -> 0
A340: 2018 | B340: 2018.10.14 | C340: 2018.10.14梅林U站服务（六期） | D340: 社会服务 | F340: 8 | G340: 韩轩然 | H340: 1 | J340: =IF(ISNA(VLOOKUP(G340,花名册C:(D),2,FALSE)),"",VLOOKUP(G340,[1]花名册!C:D,2,FALSE)) -> S18006
A341: 2018 | B341: 2018.10.14 | C341: 2018.10.14梅林U站服务（六期） | D341: 社会服务 | F341: 0 | G341: 周彦欣 | H341: 0 | I341: 病假，缺勤 | J341: =IF(ISNA(VLOOKUP(G341,花名册C:(D),2,FALSE)),"",VLOOKUP(G341,[1]花名册!C:D,2,FALSE)) -> 0
A342: 2018 | B342: 2018.10.14 | C342: 2018.10.14梅林U站服务（六期） | D342: 社会服务 | F342: 0 | G342: 吕如川 | H342: 0 | I342: 病假，缺勤 | J342: =IF(ISNA(VLOOKUP(G342,花名册C:(D),2,FALSE)),"",VLOOKUP(G342,[1]花名册!C:D,2,FALSE)) -> S18012
A343: 2018 | B343: 2018.10.14 | C343: 2018.10.14梅林U站服务（六期） | D343: 社会服务 | F343: 0 | G343: 杨可盈 | H343: 0 | I343: 病假，缺勤 | J343: =IF(ISNA(VLOOKUP(G343,花名册C:(D),2,FALSE)),"",VLOOKUP(G343,[1]花名册!C:D,2,FALSE)) -> 0
A344: 2018 | B344: 2018.10.14 | C344: 2018.10.14梅林U站服务（六期） | D344: 社会服务 | F344: 0 | G344: 邓智艺 | H344: 0 | I344: 病假，缺勤 | J344: =IF(ISNA(VLOOKUP(G344,花名册C:(D),2,FALSE)),"",VLOOKUP(G344,[1]花名册!C:D,2,FALSE)) -> 0
A345: 2018 | B345: 2018.10.28 | C345: 2018.10.28深圳中心书城北广场大型安全宣导活动 | G345: 刘沛辰 | H345: 1 | J345: =IF(ISNA(VLOOKUP(G345,花名册C:(D),2,FALSE)),"",VLOOKUP(G345,[1]花名册!C:D,2,FALSE)) -> S18009
A346: 2018 | B346: 2018.10.28 | C346: 2018.10.28深圳中心书城北广场大型安全宣导活动 | G346: 郑采云 | H346: 1 | J346: =IF(ISNA(VLOOKUP(G346,花名册C:(D),2,FALSE)),"",VLOOKUP(G346,[1]花名册!C:D,2,FALSE)) -> S18022
A347: 2018 | B347: 2018.10.28 | C347: 2018.10.28深圳中心书城北广场大型安全宣导活动 | G347: 叶宇飞 | H347: 1 | J347: =IF(ISNA(VLOOKUP(G347,花名册C:(D),2,FALSE)),"",VLOOKUP(G347,[1]花名册!C:D,2,FALSE)) -> S17015
A348: 2018 | B348: 2018.10.28 | C348: 2018.10.28深圳中心书城北广场大型安全宣导活动 | G348: 张浚铭 | H348: 1 | J348: =IF(ISNA(VLOOKUP(G348,花名册C:(D),2,FALSE)),"",VLOOKUP(G348,[1]花名册!C:D,2,FALSE)) -> S18020
A349: 2018 | B349: 2018.10.28 | C349: 2018.10.28深圳中心书城北广场大型安全宣导活动 | G349: 吕如川 | H349: 1 | J349: =IF(ISNA(VLOOKUP(G349,花名册C:(D),2,FALSE)),"",VLOOKUP(G349,[1]花名册!C:D,2,FALSE)) -> S18012
A350: 2018 | B350: 2018.10.28 | C350: 2018.10.28深圳中心书城北广场大型安全宣导活动 | G350: 钟慈宪 | H350: 1 | J350: =IF(ISNA(VLOOKUP(G350,花名册C:(D),2,FALSE)),"",VLOOKUP(G350,[1]花名册!C:D,2,FALSE)) -> S17036
A351: 2018 | B351: 2018.10.28 | C351: 2018.10.28深圳中心书城北广场大型安全宣导活动 | G351: 陈明星 | H351: 1 | J351: =IF(ISNA(VLOOKUP(G351,花名册C:(D),2,FALSE)),"",VLOOKUP(G351,[1]花名册!C:D,2,FALSE)) -> S18001
A352: 2018 | B352: 2018.10.28 | C352: 2018.10.28深圳中心书城北广场大型安全宣导活动 | G352: 冯思皓 | H352: 1 | J352: =IF(ISNA(VLOOKUP(G352,花名册C:(D),2,FALSE)),"",VLOOKUP(G352,[1]花名册!C:D,2,FALSE)) -> S18005
A353: 2018 | B353: 2018.10.28 | C353: 2018.10.28深圳中心书城北广场大型安全宣导活动 | G353: 王薇媛 | H353: 1 | J353: =IF(ISNA(VLOOKUP(G353,花名册C:(D),2,FALSE)),"",VLOOKUP(G353,[1]花名册!C:D,2,FALSE)) -> S17028
A354: 2018 | B354: 2018.10.28 | C354: 2018.10.28深圳中心书城北广场大型安全宣导活动 | G354: 于汶伯 | H354: 1 | J354: =IF(ISNA(VLOOKUP(G354,花名册C:(D),2,FALSE)),"",VLOOKUP(G354,[1]花名册!C:D,2,FALSE)) -> S18019
A355: 2018 | B355: 2018.10.28 | C355: 2018.10.28深圳中心书城北广场大型安全宣导活动 | G355: 粟浚洋 | H355: 1 | J355: =IF(ISNA(VLOOKUP(G355,花名册C:(D),2,FALSE)),"",VLOOKUP(G355,[1]花名册!C:D,2,FALSE)) -> S18015
A356: 2018 | B356: 2018.10.28 | C356: 2018.10.28深圳中心书城北广场大型安全宣导活动 | G356: 鲜东升 | H356: 1 | J356: =IF(ISNA(VLOOKUP(G356,花名册C:(D),2,FALSE)),"",VLOOKUP(G356,[1]花名册!C:D,2,FALSE)) -> S16033
... A358: 2018 | B358: 2018.10.28 | C358: 2018.10.28深圳中心书城北广场大型安全宣导活动 | G358: 杨林熹 | H358: 1 | J358: =IF(ISNA(VLOOKUP(G358,花名册C:(D),2,FALSE)),"",VLOOKUP(G358,[1]花名册!C:D,2,FALSE)) -> S17014
A359: 2018 | B359: 2018.10.28 | C359: 2018.10.28深圳中心书城北广场大型安全宣导活动 | G359: 赵霏 | H359: 0 | I359: 迟到不计考勤 | J359: =IF(ISNA(VLOOKUP(G359,花名册C:(D),2,FALSE)),"",VLOOKUP(G359,[1]花名册!C:D,2,FALSE)) -> S18021
A360: 2018 | B360: 2018.10.28 | C360: 2018.10.28深圳中心书城北广场大型安全宣导活动 | G360: 张桐嘉 | H360: 1 | J360: =IF(ISNA(VLOOKUP(G360,花名册C:(D),2,FALSE)),"",VLOOKUP(G360,[1]花名册!C:D,2,FALSE)) -> S17005
A361: 2019 | B361: 2019.01.01 | C361: 2019.01.01少年辅助队新队员入队仪式暨导师结业礼 | F361: 4 | G361: 赵霏 | H361: 1 | J361: =IF(ISNA(VLOOKUP(G361,花名册C:(D),2,FALSE)),"",VLOOKUP(G361,[1]花名册!C:D,2,FALSE)) -> S18021
A362: 2019 | B362: 2019.01.01 | C362: 2019.01.01少年辅助队新队员入队仪式暨导师结业礼 | F362: 4 | G362: 彭皓轩 | H362: 1 | J362: =IF(ISNA(VLOOKUP(G362,花名册C:(D),2,FALSE)),"",VLOOKUP(G362,[1]花名册!C:D,2,FALSE)) -> S16016
A363: 2019 | B363: 2019.01.01 | C363: 2019.01.01少年辅助队新队员入队仪式暨导师结业礼 | F363: 4 | G363: 罗博文 | H363: 1 | J363: =IF(ISNA(VLOOKUP(G363,花名册C:(D),2,FALSE)),"",VLOOKUP(G363,[1]花名册!C:D,2,FALSE)) -> S18010
A364: 2019 | B364: 2019.01.01 | C364: 2019.01.01少年辅助队新队员入队仪式暨导师结业礼 | F364: 4 | G364: 吕如川 | H364: 1 | J364: =IF(ISNA(VLOOKUP(G364,花名册C:(D),2,FALSE)),"",VLOOKUP(G364,[1]花名册!C:D,2,FALSE)) -> S18012
A365: 2019 | B365: 2019.01.01 | C365: 2019.01.01少年辅助队新队员入队仪式暨导师结业礼 | F365: 4 | G365: 冯昶玮 | H365: 0 | J365: =IF(ISNA(VLOOKUP(G365,花名册C:(D),2,FALSE)),"",VLOOKUP(G365,[1]花名册!C:D,2,FALSE)) -> S18004
A366: 2019 | B366: 2019.01.01 | C366: 2019.01.01少年辅助队新队员入队仪式暨导师结业礼 | F366: 4 | G366: 杜明博 | H366: 1 | J366: =IF(ISNA(VLOOKUP(G366,花名册C:(D),2,FALSE)),"",VLOOKUP(G366,[1]花名册!C:D,2,FALSE)) -> S18002
...

Sheet 正式队员名单
A1: 19年春季获得编号的正式队员
A2: 序号 | B2: 姓名 | C2: 编号
A3: 1 | B3: 邓智艺 | C3: S19001
A4: 2 | B4: 冯思涵 | C4: S19002
A5: 3 | B5: 黄腾 | C5: S19003
A6: 4 | B6: 黄欣莹 | C6: S19004
A7: 5 | B7: 李宜蔚 | C7: S19005
A8: 6 | B8: 廖佳怡 | C8: S19006
A9: 7 | B9: 刘欣乐 | C9: S19007
A10: 8 | B10: 师子恒 | C10: S19008
A11: 9 | B11: 吴浩然 | C11: S19009
A12: 10 | B12: 谢思齐 | C12: S19010
A13: 11 | B13: 杨可盈 | C13: S19011
A14: 12 | B14: 詹童童 | C14: S19012
A15: 13 | B15: 朱奕霖 | C15: S19013
